BEGIN:VCALENDAR
VERSION:2.0
PRODID:-//ETNH Events//WordPress Plugin//PL
CALSCALE:GREGORIAN
METHOD:PUBLISH
BEGIN:VEVENT
UID:d09091fa808e52364e5a7e37aeafd13a
DTSTAMP:20260419T231445Z
DTSTART;VALUE=DATE:20260418
DTEND;VALUE=DATE:20260419
SUMMARY:Orient Gravel &#8211\; Mielnik: &#8222\;Nad Bugiem&#8221\;
DESCRIPTION:
LOCATION:Mielnik
URL:https://orientgravel.pl/
STATUS:CONFIRMED
SEQUENCE:0
END:VEVENT
END:VCALENDAR
