BEGIN:VCALENDAR
VERSION:2.0
PRODID:-//ETNH Events//WordPress Plugin//PL
CALSCALE:GREGORIAN
METHOD:PUBLISH
BEGIN:VEVENT
UID:489a02579399ab095e3dde8595d5d6a2
DTSTAMP:20260420T005555Z
DTSTART;VALUE=DATE:20260606
DTEND;VALUE=DATE:20260607
SUMMARY:Gravel Adventure &#8211\; UCI Gravel World Series
DESCRIPTION:
LOCATION:Szklarska Poręba - Polana Jakuszycka
URL:https://www.graveladventure.pl/
STATUS:CONFIRMED
SEQUENCE:0
END:VEVENT
END:VCALENDAR
